BEGIN:VCALENDAR
VERSION:2.0
PRODID:-//wp-events-plugin.com//7.2.3.1//EN
TZID:Europe/Amsterdam
X-WR-TIMEZONE:Europe/Amsterdam
BEGIN:VEVENT
UID:3556@worldglaucomaweek.org
DTSTART;TZID=Australia/Sydney:20210310T133000
DTEND;TZID=Australia/Sydney:20210310T143000
DTSTAMP:20210225T040323Z
URL:https://www.worldglaucomaweek.org/activity/private-public-hospital-for
 -glaucoma-with-kathrin-rac-glaucoma-australia/
SUMMARY:Private &amp\; Public Hospital for Glaucoma with Kathrin Rac &amp\;
  Glaucoma Australia
DESCRIPTION:You are invited to one of several live events streamed via Face
 book and hosted by Glaucoma Australia for World Glaucoma Week (7–13 Marc
 h 2021).\n\nJoin us on Facebook Live for a discussion on Private &amp\; Pu
 blic Hospital for Glaucoma with Kathrin Rac.\n\nThis is a virtual event th
 at will be facilitated via Facebook Live on the Glaucoma Australia Faceboo
 k page. www.facebook.com/glaucoma.australia/
CATEGORIES:Awareness
LOCATION:FB Live Event\, Suite 302\, Level 3\, Hampden Road\, Artarmon\, NS
 W\, 2134\, Australia
GEO:-33.81237;151.188895
X-APPLE-STRUCTURED-LOCATION;VALUE=URI;X-ADDRESS=Suite 302\, Level 3\, Hampd
 en Road\, Artarmon\, NSW\, 2134\, Australia;X-APPLE-RADIUS=100;X-TITLE=FB 
 Live Event:geo:-33.81237,151.188895
END:VEVENT
BEGIN:VTIMEZONE
TZID:Australia/Sydney
X-LIC-LOCATION:Australia/Sydney
BEGIN:DAYLIGHT
DTSTART:20201004T030000
TZOFFSETFROM:+1000
TZOFFSETTO:+1100
TZNAME:AEDT
END:DAYLIGHT
END:VTIMEZONE
END:VCALENDAR