BEGIN:VCALENDAR
VERSION:2.0
PRODID:-//wp-events-plugin.com//7.2.3.1//EN
TZID:Europe/Amsterdam
X-WR-TIMEZONE:Europe/Amsterdam
BEGIN:VEVENT
UID:19213@worldglaucomaweek.org
DTSTART;TZID=Europe/Amsterdam:20250221T100000
DTEND;TZID=Europe/Amsterdam:20250221T100000
DTSTAMP:20250311T072054Z
URL:https://www.worldglaucomaweek.org/activity/prevent-blindness/
SUMMARY:Prevent Blindness
DESCRIPTION:Check your IOP againts blindness\nDuring Eye Health Congress wh
 ich was held on 21 Feb 2025 at Ege University by Ophthalmology Department\
 , IOP of 180 participants had been cheked in order to make awarness of gla
 ucoma.
CATEGORIES:Awareness
LOCATION:Ege University\, Ege University\, Izmir\, Turkey\, 35100\, Asia\, 
 Turkey
X-APPLE-STRUCTURED-LOCATION;VALUE=URI;X-ADDRESS=Ege University\, Izmir\, Tu
 rkey\, 35100\, Asia\, Turkey;X-APPLE-RADIUS=100;X-TITLE=Ege University:geo
 :0,0
END:VEVENT
BEGIN:VTIMEZONE
TZID:Europe/Amsterdam
X-LIC-LOCATION:Europe/Amsterdam
BEGIN:STANDARD
DTSTART:20241027T020000
TZOFFSETFROM:+0200
TZOFFSETTO:+0100
TZNAME:CET
END:STANDARD
END:VTIMEZONE
END:VCALENDAR