BEGIN:VCALENDAR
VERSION:2.0
PRODID:-//wp-events-plugin.com//7.2.3.1//EN
TZID:Europe/Amsterdam
X-WR-TIMEZONE:Europe/Amsterdam
BEGIN:VEVENT
UID:4098@worldglaucomaweek.org
DTSTART;TZID=Indian/Reunion:20210305T160000
DTEND;TZID=Indian/Reunion:20210305T170000
DTSTAMP:20210308T043803Z
URL:https://www.worldglaucomaweek.org/activity/press-meet-2/
SUMMARY:Press meet
DESCRIPTION:
CATEGORIES:Awareness
LOCATION:Aravind Eye Hospital. Tiru\, Sn high road \, Tirunelveli\, Tamil N
 adu\, 627001\, India
GEO:8.728826;77.7046
X-APPLE-STRUCTURED-LOCATION;VALUE=URI;X-ADDRESS=Sn high road \, Tirunelveli
 \, Tamil Nadu\, 627001\, India;X-APPLE-RADIUS=100;X-TITLE=Aravind Eye Hosp
 ital. Tiru:geo:8.728826,77.7046
END:VEVENT
BEGIN:VTIMEZONE
TZID:Indian/Reunion
X-LIC-LOCATION:Indian/Reunion
BEGIN:STANDARD
DTSTART:20200305T160000
TZOFFSETFROM:+0400
TZOFFSETTO:+0400
TZNAME:+04
END:STANDARD
END:VTIMEZONE
END:VCALENDAR