BEGIN:VCALENDAR
VERSION:2.0
PRODID:-//wp-events-plugin.com//7.2.3.1//EN
TZID:Europe/Amsterdam
X-WR-TIMEZONE:Europe/Amsterdam
BEGIN:VEVENT
UID:1559@worldglaucomaweek.org
DTSTART;TZID=Europe/Amsterdam:20180212T103000
DTEND;TZID=Europe/Amsterdam:20180212T103000
DTSTAMP:20180201T111431Z
URL:https://www.worldglaucomaweek.org/activity/press-conference-about-wgw/
SUMMARY:Press conference about WGW
DESCRIPTION:
CATEGORIES:Media coverage
LOCATION:General Hospital Zadar\, Bože Peričića 5\, Zadar\, Croatia\, Cr
 oatia
GEO:44.1070439;15.23466469999994
X-APPLE-STRUCTURED-LOCATION;VALUE=URI;X-ADDRESS=Bože Peričića 5\, Zadar\
 , Croatia\, Croatia;X-APPLE-RADIUS=100;X-TITLE=General Hospital Zadar:geo:
 44.1070439,15.23466469999994
END:VEVENT
BEGIN:VTIMEZONE
TZID:Europe/Amsterdam
X-LIC-LOCATION:Europe/Amsterdam
BEGIN:STANDARD
DTSTART:20171029T020000
TZOFFSETFROM:+0200
TZOFFSETTO:+0100
TZNAME:CET
END:STANDARD
END:VTIMEZONE
END:VCALENDAR