BEGIN:VCALENDAR
VERSION:2.0
PRODID:-//wp-events-plugin.com//7.2.3.1//EN
TZID:Europe/Amsterdam
X-WR-TIMEZONE:Europe/Amsterdam
BEGIN:VEVENT
UID:2377@worldglaucomaweek.org
DTSTART;TZID=Europe/Amsterdam:20190211T000000
DTEND;TZID=Europe/Amsterdam:20190211T010000
DTSTAMP:20190222T112350Z
URL:https://www.worldglaucomaweek.org/activity/press-conference-about-wgw-
 2/
SUMMARY:Press conference about WGW
DESCRIPTION:
CATEGORIES:Media coverage
END:VEVENT
BEGIN:VTIMEZONE
TZID:Europe/Amsterdam
X-LIC-LOCATION:Europe/Amsterdam
BEGIN:STANDARD
DTSTART:20181028T020000
TZOFFSETFROM:+0200
TZOFFSETTO:+0100
TZNAME:CET
END:STANDARD
END:VTIMEZONE
END:VCALENDAR