BEGIN:VCALENDAR
VERSION:2.0
PRODID:-//wp-events-plugin.com//7.2.3.1//EN
TZID:Europe/Amsterdam
X-WR-TIMEZONE:Europe/Amsterdam
BEGIN:VEVENT
UID:2764@worldglaucomaweek.org
DTSTART;TZID=Europe/Amsterdam:20190311T090000
DTEND;TZID=Europe/Amsterdam:20190316T100000
DTSTAMP:20190308T185550Z
URL:https://www.worldglaucomaweek.org/activity/presencia-en-redes-sociales
 -clinica-oftalmologica-del-caribe/
SUMMARY:Presencia en Redes Sociales-Clínica Oftalmológica del Caribe
DESCRIPTION:Realizaremos charlas y videos cortos para la audencia en redes 
 sociales con datos\, curiosidades\, estadísticas y prevención acerca del
  Glaucoma.  Utilizaremos los formatos EN VIVO de las principales redes so
 ciales:  Facebook e Instagram.\n\nFacebook e Instagram:  clinicaoftalmol
 ogicadelcaribe\n\n&nbsp\;
ATTACH;FMTTYPE=image/jpeg:https://www.worldglaucomaweek.org/wp-content/upl
 oads/2019/03/POST_GLAUCOMA2.jpg
CATEGORIES:Other
END:VEVENT
BEGIN:VTIMEZONE
TZID:Europe/Amsterdam
X-LIC-LOCATION:Europe/Amsterdam
BEGIN:STANDARD
DTSTART:20181028T020000
TZOFFSETFROM:+0200
TZOFFSETTO:+0100
TZNAME:CET
END:STANDARD
END:VTIMEZONE
END:VCALENDAR