BEGIN:VCALENDAR
VERSION:2.0
PRODID:-//wp-events-plugin.com//7.2.3.1//EN
TZID:Europe/Amsterdam
X-WR-TIMEZONE:Europe/Amsterdam
BEGIN:VEVENT
UID:2134@worldglaucomaweek.org
DTSTART;TZID=Europe/Amsterdam;VALUE=DATE:20180312
DTEND;TZID=Europe/Amsterdam;VALUE=DATE:20180315
DTSTAMP:20180313T115859Z
URL:https://www.worldglaucomaweek.org/activity/pinnacle-health-radio-glauc
 oma-week/
SUMMARY:Pinnacle Health Radio Glaucoma Week
DESCRIPTION:Pinnacle Health Radio Glaucoma Week kick off with Radio talk on
  Eye health with Dr Monsurah Salami who is  a consultant ophthalmologis
 t on the program Insight on Sight With Dr Salami on Monday 12th March 20
 18 at 2:30PM \n\n&nbsp\;\n\nFollowed by Health matters Show with Dr Salam
 i on Wednesday 14th March 2018 10 AM.\n\n&nbsp\;\n\nOur News &amp\; Media 
 department will publish happenings\, relevant informations and interviews 
 to commemorate the week
ATTACH;FMTTYPE=image/jpeg:https://www.worldglaucomaweek.org/wp-content/upl
 oads/2018/03/pinnacle-post-28.png
CATEGORIES:Media coverage
LOCATION:Pinnacle Health Radio\, 14\, Muritala Eletu Street\, Osapa\, Lagos
 \, 234\, Nigeria
GEO:6.439881;3.5112020000000257
X-APPLE-STRUCTURED-LOCATION;VALUE=URI;X-ADDRESS=14\, Muritala Eletu Street\
 , Osapa\, Lagos\, 234\, Nigeria;X-APPLE-RADIUS=100;X-TITLE=Pinnacle Health
  Radio:geo:6.439881,3.5112020000000257
END:VEVENT
BEGIN:VTIMEZONE
TZID:Europe/Amsterdam
X-LIC-LOCATION:Europe/Amsterdam
BEGIN:STANDARD
DTSTART:20171029T020000
TZOFFSETFROM:+0200
TZOFFSETTO:+0100
TZNAME:CET
END:STANDARD
END:VTIMEZONE
END:VCALENDAR