BEGIN:VCALENDAR
VERSION:2.0
PRODID:-//wp-events-plugin.com//7.2.3.1//EN
TZID:Europe/Amsterdam
X-WR-TIMEZONE:Europe/Amsterdam
BEGIN:VEVENT
UID:2250@worldglaucomaweek.org
DTSTART;TZID=Europe/Amsterdam:20180312T080000
DTEND;TZID=Europe/Amsterdam:20180312T090000
DTSTAMP:20180316T160520Z
URL:https://www.worldglaucomaweek.org/activity/philo-talk/
SUMMARY:Philo Talk Show Interview and Glaucoma Outreach
DESCRIPTION:
CATEGORIES:Public educational
LOCATION:ieTV\, St Lucien Road\, Deigo Martin\, West Indies\, Trinidad and 
 Tobago
GEO:10.730999531433858;-61.55865762858889
X-APPLE-STRUCTURED-LOCATION;VALUE=URI;X-ADDRESS=St Lucien Road\, Deigo Mart
 in\, West Indies\, Trinidad and Tobago;X-APPLE-RADIUS=100;X-TITLE=ieTV:geo
 :10.730999531433858,-61.55865762858889
END:VEVENT
BEGIN:VTIMEZONE
TZID:Europe/Amsterdam
X-LIC-LOCATION:Europe/Amsterdam
BEGIN:STANDARD
DTSTART:20171029T020000
TZOFFSETFROM:+0200
TZOFFSETTO:+0100
TZNAME:CET
END:STANDARD
END:VTIMEZONE
END:VCALENDAR