BEGIN:VCALENDAR
VERSION:2.0
PRODID:-//wp-events-plugin.com//7.2.3.1//EN
TZID:Europe/Amsterdam
X-WR-TIMEZONE:Europe/Amsterdam
BEGIN:VEVENT
UID:2621@worldglaucomaweek.org
DTSTART;TZID=Europe/Amsterdam:20190315T133000
DTEND;TZID=Europe/Amsterdam:20190315T153000
DTSTAMP:20190305T100551Z
URL:https://www.worldglaucomaweek.org/activity/patient-support-group/
SUMMARY:Patient Support Group
DESCRIPTION:Patient Support Group for individuals with glaucoma\, providing
  talks by glaucoma experts and Q+A session
CATEGORIES:Public educational
LOCATION:Inverclye Royal Hospital Education Centre\, Larkfield Road\, Green
 ock\, PA16 0TD\, United Kingdom
GEO:55.94753739999999;-4.81015560000003
X-APPLE-STRUCTURED-LOCATION;VALUE=URI;X-ADDRESS=Larkfield Road\, Greenock\,
  PA16 0TD\, United Kingdom;X-APPLE-RADIUS=100;X-TITLE=Inverclye Royal Hosp
 ital Education Centre:geo:55.94753739999999,-4.81015560000003
END:VEVENT
BEGIN:VTIMEZONE
TZID:Europe/Amsterdam
X-LIC-LOCATION:Europe/Amsterdam
BEGIN:STANDARD
DTSTART:20181028T020000
TZOFFSETFROM:+0200
TZOFFSETTO:+0100
TZNAME:CET
END:STANDARD
END:VTIMEZONE
END:VCALENDAR