BEGIN:VCALENDAR
VERSION:2.0
PRODID:-//wp-events-plugin.com//7.2.3.1//EN
TZID:Europe/Amsterdam
X-WR-TIMEZONE:Europe/Amsterdam
BEGIN:VEVENT
UID:1995@worldglaucomaweek.org
DTSTART;TZID=Europe/Amsterdam:20180316T160000
DTEND;TZID=Europe/Amsterdam:20180316T180000
DTSTAMP:20180309T105356Z
URL:https://www.worldglaucomaweek.org/activity/patient-education-conferenc
 e-about-glaucoma/
SUMMARY:Patient education conference about glaucoma
DESCRIPTION:
CATEGORIES:Public educational
LOCATION:Dunyagoz Hospital\, Tunus cad. N0:28\, Ankara\, 06000\, Turkey
X-APPLE-STRUCTURED-LOCATION;VALUE=URI;X-ADDRESS=Tunus cad. N0:28\, Ankara\,
  06000\, Turkey;X-APPLE-RADIUS=100;X-TITLE=Dunyagoz Hospital:geo:0,0
END:VEVENT
BEGIN:VTIMEZONE
TZID:Europe/Amsterdam
X-LIC-LOCATION:Europe/Amsterdam
BEGIN:STANDARD
DTSTART:20171029T020000
TZOFFSETFROM:+0200
TZOFFSETTO:+0100
TZNAME:CET
END:STANDARD
END:VTIMEZONE
END:VCALENDAR