BEGIN:VCALENDAR
VERSION:2.0
PRODID:-//wp-events-plugin.com//7.2.3.1//EN
TZID:Europe/Amsterdam
X-WR-TIMEZONE:Europe/Amsterdam
BEGIN:VEVENT
UID:4031@worldglaucomaweek.org
DTSTART;TZID=Asia/Shanghai:20210307T000000
DTEND;TZID=Asia/Shanghai:20210313T000000
DTSTAMP:20210306T233545Z
URL:https://www.worldglaucomaweek.org/activity/patient-education-2/
SUMMARY:Patient Education
DESCRIPTION:
CATEGORIES:Public educational
END:VEVENT
BEGIN:VTIMEZONE
TZID:Asia/Shanghai
X-LIC-LOCATION:Asia/Shanghai
BEGIN:STANDARD
DTSTART:20200307T000000
TZOFFSETFROM:+0800
TZOFFSETTO:+0800
TZNAME:CST
END:STANDARD
END:VTIMEZONE
END:VCALENDAR