BEGIN:VCALENDAR
VERSION:2.0
PRODID:-//wp-events-plugin.com//7.2.3.1//EN
TZID:Europe/Amsterdam
X-WR-TIMEZONE:Europe/Amsterdam
BEGIN:VEVENT
UID:2765@worldglaucomaweek.org
DTSTART;TZID=Europe/Amsterdam:20190310T090000
DTEND;TZID=Europe/Amsterdam:20190310T123000
DTSTAMP:20190308T220415Z
URL:https://www.worldglaucomaweek.org/activity/parque-municipal-screenig-a
 ctivity/
SUMMARY:Parque Municipal screenig activity
DESCRIPTION:A screening activity will take place at Parque Municipal at Bel
 o Horizonte on next Sunday.\n\nGlaucoma specialists from Centro Oftalmolog
 ico de Minas Gerais Hospital will participate on the\n\nactivity on this c
 entral bustling venue.\n\n&nbsp\;\n\nCentro Oftalmologico de Minas Gerais 
 (the biggest private eye hospital in the city) will provide 3 slits lamps\
 , a non contact tonometer and a number of people to provide high quality a
 ssistance to those involved on this awareness campaign.\n\n&nbsp\;\n\nRad
 io and local TV channels were contacted to mobilize the populatuion who wi
 ll look for eye exams. The focus of the activity will be people over 40´s
 \, afro descendant and those with known family history of glaucoma.\n\n&nb
 sp\;\n\nThe organizers expect around 500 people to have their eyes checked
 .
CATEGORIES:Screening event
LOCATION:Parque Municipal\, avenida afonso pena 1377\, belo horizonte\, min
 as gerais\, 30130000\, downtown\, Brazil
GEO:-19.9243753;-43.93506400000001
X-APPLE-STRUCTURED-LOCATION;VALUE=URI;X-ADDRESS=avenida afonso pena 1377\, 
 belo horizonte\, minas gerais\, 30130000\, downtown\, Brazil;X-APPLE-RADIU
 S=100;X-TITLE=Parque Municipal:geo:-19.9243753,-43.93506400000001
END:VEVENT
BEGIN:VTIMEZONE
TZID:Europe/Amsterdam
X-LIC-LOCATION:Europe/Amsterdam
BEGIN:STANDARD
DTSTART:20181028T020000
TZOFFSETFROM:+0200
TZOFFSETTO:+0100
TZNAME:CET
END:STANDARD
END:VTIMEZONE
END:VCALENDAR