BEGIN:VCALENDAR
VERSION:2.0
PRODID:-//wp-events-plugin.com//7.2.3.1//EN
TZID:Europe/Amsterdam
X-WR-TIMEZONE:Europe/Amsterdam
BEGIN:VEVENT
UID:2035@worldglaucomaweek.org
DTSTART;TZID=Europe/Amsterdam:20180312T160000
DTEND;TZID=Europe/Amsterdam:20180312T180000
DTSTAMP:20180310T025823Z
URL:https://www.worldglaucomaweek.org/activity/palestra-esucacional/
SUMMARY:ABRAG Palestra Educacional
DESCRIPTION:
ATTACH;FMTTYPE=image/jpeg:https://www.worldglaucomaweek.org/wp-content/upl
 oads/2018/03/ABRAG-INT-SMALL.jpg
CATEGORIES:Media coverage
LOCATION:Clínica Medica Dr. Almir Ghiaroni\, Rua Gal. Venâncio Flores\, 3
 05 - Leblon\, Rio de Janeiro\, RJ\, Brazil
GEO:-22.9846546;-43.225281499999994
X-APPLE-STRUCTURED-LOCATION;VALUE=URI;X-ADDRESS=Rua Gal. Venâncio Flores\,
  305 - Leblon\, Rio de Janeiro\, RJ\, Brazil;X-APPLE-RADIUS=100;X-TITLE=Cl
 ínica Medica Dr. Almir Ghiaroni:geo:-22.9846546,-43.225281499999994
END:VEVENT
BEGIN:VTIMEZONE
TZID:Europe/Amsterdam
X-LIC-LOCATION:Europe/Amsterdam
BEGIN:STANDARD
DTSTART:20171029T020000
TZOFFSETFROM:+0200
TZOFFSETTO:+0100
TZNAME:CET
END:STANDARD
END:VTIMEZONE
END:VCALENDAR