BEGIN:VCALENDAR
VERSION:2.0
PRODID:-//wp-events-plugin.com//7.2.3.1//EN
TZID:Europe/Amsterdam
X-WR-TIMEZONE:Europe/Amsterdam
BEGIN:VEVENT
UID:1520@worldglaucomaweek.org
DTSTART;TZID=Europe/Amsterdam:20180316T080000
DTEND;TZID=Europe/Amsterdam:20180316T100000
DTSTAMP:20180310T030047Z
URL:https://www.worldglaucomaweek.org/activity/palestra-educacional-2/
SUMMARY:ABRAG Palestra Educacional
DESCRIPTION:
ATTACH;FMTTYPE=image/jpeg:https://www.worldglaucomaweek.org/wp-content/upl
 oads/2018/01/ABRAG-INT-SMALL-4.jpg
CATEGORIES:Public educational
LOCATION:Hospital Federal dos Servidores do Estado\, R. Sacadura Cabral\, 1
 78 - Saúde\, Rio de Janeiro\, RJ\, Brazil
GEO:-22.8973045;-43.18805209999999
X-APPLE-STRUCTURED-LOCATION;VALUE=URI;X-ADDRESS=R. Sacadura Cabral\, 178 - 
 Saúde\, Rio de Janeiro\, RJ\, Brazil;X-APPLE-RADIUS=100;X-TITLE=Hospital 
 Federal dos Servidores do Estado:geo:-22.8973045,-43.18805209999999
END:VEVENT
BEGIN:VTIMEZONE
TZID:Europe/Amsterdam
X-LIC-LOCATION:Europe/Amsterdam
BEGIN:STANDARD
DTSTART:20171029T020000
TZOFFSETFROM:+0200
TZOFFSETTO:+0100
TZNAME:CET
END:STANDARD
END:VTIMEZONE
END:VCALENDAR