BEGIN:VCALENDAR
VERSION:2.0
PRODID:-//wp-events-plugin.com//7.2.3.1//EN
TZID:Europe/Amsterdam
X-WR-TIMEZONE:Europe/Amsterdam
BEGIN:VEVENT
UID:2259@worldglaucomaweek.org
DTSTART;TZID=Europe/Amsterdam:20180313T000000
DTEND;TZID=Europe/Amsterdam:20180314T000000
DTSTAMP:20180316T205739Z
URL:https://www.worldglaucomaweek.org/activity/organize-free-screening-day
 -at-my-institution/
SUMMARY:Organize free screening day at my institution.
DESCRIPTION:
CATEGORIES:Screening event
LOCATION:ESOGU Medical school\, Meselik Campus\, Eskişehir\, 26480\, Turke
 y
GEO:39.75168559999999;30.490021800000022
X-APPLE-STRUCTURED-LOCATION;VALUE=URI;X-ADDRESS=Meselik Campus\, Eskişehir
 \, 26480\, Turkey;X-APPLE-RADIUS=100;X-TITLE=ESOGU Medical school:geo:39.7
 5168559999999,30.490021800000022
END:VEVENT
BEGIN:VTIMEZONE
TZID:Europe/Amsterdam
X-LIC-LOCATION:Europe/Amsterdam
BEGIN:STANDARD
DTSTART:20171029T020000
TZOFFSETFROM:+0200
TZOFFSETTO:+0100
TZNAME:CET
END:STANDARD
END:VTIMEZONE
END:VCALENDAR