BEGIN:VCALENDAR
VERSION:2.0
PRODID:-//wp-events-plugin.com//7.2.3.1//EN
TZID:Europe/Amsterdam
X-WR-TIMEZONE:Europe/Amsterdam
BEGIN:VEVENT
UID:2008@worldglaucomaweek.org
DTSTART;TZID=Europe/Amsterdam:20180311T093000
DTEND;TZID=Europe/Amsterdam:20180311T103000
DTSTAMP:20180309T135130Z
URL:https://www.worldglaucomaweek.org/activity/open-lecture-rise-above-the
 -glaucomas/
SUMMARY:Open Lecture 'Rise above the Glaucomas'
DESCRIPTION:Open Lecture 'Rise above the Glaucomas'\n\nChair: Hiroshi Sakai
 \, MD\, PhD. Associate Professor\, Ophthalmology\, University of the Ryuky
 us\n\n 	Dr. Yohei Chikaraishi. Glaucomas in Okinawa\n 	Dr. Yoshikuni Araka
 ki. Surgical treatments for Glaucoma\n 	Dr. Hiroshi Sakai. Treatment strat
 egy for the Glaucomas\n
ATTACH;FMTTYPE=image/jpeg:https://www.worldglaucomaweek.org/wp-content/upl
 oads/2018/03/Submit-WGW-2018-2.jpg
CATEGORIES:Public educational
LOCATION:Okinawa Prefectural Museum &amp\; Art Museum\, Omoromachi 3-1-1\, 
 \, Naha-city\, Okinawa\, 900-0006\, Japan
GEO:26.2273138;127.69384890000003
X-APPLE-STRUCTURED-LOCATION;VALUE=URI;X-ADDRESS=Omoromachi 3-1-1\, \, Naha-
 city\, Okinawa\, 900-0006\, Japan;X-APPLE-RADIUS=100;X-TITLE=Okinawa Prefe
 ctural Museum & Art Museum:geo:26.2273138,127.69384890000003
END:VEVENT
BEGIN:VTIMEZONE
TZID:Europe/Amsterdam
X-LIC-LOCATION:Europe/Amsterdam
BEGIN:STANDARD
DTSTART:20171029T020000
TZOFFSETFROM:+0200
TZOFFSETTO:+0100
TZNAME:CET
END:STANDARD
END:VTIMEZONE
END:VCALENDAR