BEGIN:VCALENDAR
VERSION:2.0
PRODID:-//wp-events-plugin.com//7.2.3.1//EN
TZID:Europe/Amsterdam
X-WR-TIMEZONE:Europe/Amsterdam
BEGIN:VEVENT
UID:2150@worldglaucomaweek.org
DTSTART;TZID=Europe/Amsterdam;VALUE=DATE:20180311
DTEND;TZID=Europe/Amsterdam;VALUE=DATE:20180318
DTSTAMP:20180314T025529Z
URL:https://www.worldglaucomaweek.org/activity/northern-mindanao-medical-c
 enter-poster-display/
SUMMARY:Northern Mindanao Medical Center Poster Display
DESCRIPTION:
CATEGORIES:Public educational
LOCATION:Northern Mindanao Medical Center\, Capitol Road\, Cagayan de Oro C
 ity\, Philippines
GEO:8.4853006;124.64899820000005
X-APPLE-STRUCTURED-LOCATION;VALUE=URI;X-ADDRESS=Capitol Road\, Cagayan de O
 ro City\, Philippines;X-APPLE-RADIUS=100;X-TITLE=Northern Mindanao Medical
  Center:geo:8.4853006,124.64899820000005
END:VEVENT
BEGIN:VTIMEZONE
TZID:Europe/Amsterdam
X-LIC-LOCATION:Europe/Amsterdam
BEGIN:STANDARD
DTSTART:20171029T020000
TZOFFSETFROM:+0200
TZOFFSETTO:+0100
TZNAME:CET
END:STANDARD
END:VTIMEZONE
END:VCALENDAR