BEGIN:VCALENDAR
VERSION:2.0
PRODID:-//wp-events-plugin.com//7.2.3.1//EN
TZID:Europe/Amsterdam
X-WR-TIMEZONE:Europe/Amsterdam
BEGIN:VEVENT
UID:1392@worldglaucomaweek.org
DTSTART;TZID=Europe/Amsterdam:20170314T120000
DTEND;TZID=Europe/Amsterdam:20170314T160000
DTSTAMP:20170314T134626Z
URL:https://www.worldglaucomaweek.org/activity/national-campaign-by-the-gl
 aucoma-patients-organization/
SUMMARY:National campaign by the Glaucoma patients' Organization
DESCRIPTION:
CATEGORIES:Media coverage
LOCATION:Sofia\, Hilton\, Sofia\, Bulgaria
GEO:42.68134999999999;23.319421000000034
X-APPLE-STRUCTURED-LOCATION;VALUE=URI;X-ADDRESS=Hilton\, Sofia\, Bulgaria;X
 -APPLE-RADIUS=100;X-TITLE=Sofia:geo:42.68134999999999,23.319421000000034
END:VEVENT
BEGIN:VTIMEZONE
TZID:Europe/Amsterdam
X-LIC-LOCATION:Europe/Amsterdam
BEGIN:STANDARD
DTSTART:20161030T020000
TZOFFSETFROM:+0200
TZOFFSETTO:+0100
TZNAME:CET
END:STANDARD
END:VTIMEZONE
END:VCALENDAR