BEGIN:VCALENDAR
VERSION:2.0
PRODID:-//wp-events-plugin.com//7.2.3.1//EN
TZID:Europe/Amsterdam
X-WR-TIMEZONE:Europe/Amsterdam
BEGIN:VEVENT
UID:1044@worldglaucomaweek.org
DTSTART;TZID=Europe/Amsterdam;VALUE=DATE:20170312
DTEND;TZID=Europe/Amsterdam;VALUE=DATE:20170319
DTSTAMP:20170210T173812Z
URL:https://www.worldglaucomaweek.org/activity/national-campagne-in-24-cit
 ies-in-croatia-21/
SUMMARY:National Campagne  in 24 cities in Croatia
DESCRIPTION:
ATTACH;FMTTYPE=image/jpeg:https://www.worldglaucomaweek.org/wp-content/upl
 oads/2017/02/7x7-18.jpg
CATEGORIES:Public educational
LOCATION:General Hospital Vinkovci\, Zvonarska 57\, Vinkovci\, Croatia\, Cr
 oatia
GEO:45.2917931;18.818179699999973
X-APPLE-STRUCTURED-LOCATION;VALUE=URI;X-ADDRESS=Zvonarska 57\, Vinkovci\, C
 roatia\, Croatia;X-APPLE-RADIUS=100;X-TITLE=General Hospital Vinkovci:geo:
 45.2917931,18.818179699999973
END:VEVENT
BEGIN:VTIMEZONE
TZID:Europe/Amsterdam
X-LIC-LOCATION:Europe/Amsterdam
BEGIN:STANDARD
DTSTART:20161030T020000
TZOFFSETFROM:+0200
TZOFFSETTO:+0100
TZNAME:CET
END:STANDARD
END:VTIMEZONE
END:VCALENDAR