BEGIN:VCALENDAR
VERSION:2.0
PRODID:-//wp-events-plugin.com//7.2.3.1//EN
TZID:Europe/Amsterdam
X-WR-TIMEZONE:Europe/Amsterdam
BEGIN:VEVENT
UID:2561@worldglaucomaweek.org
DTSTART;TZID=Europe/Amsterdam:20190309T203000
DTEND;TZID=Europe/Amsterdam:20190309T233000
DTSTAMP:20190305T090608Z
URL:https://www.worldglaucomaweek.org/activity/music-for-glaucoma-sensitiz
 ation-2/
SUMMARY:music for glaucoma
DESCRIPTION:CONCERTO PER IL GLAUCOMA: EVENTO EDUCATIVO ORGANIZZATO DA ANPIG
  ED OSPEDALE DI GORIZIA
ATTACH;FMTTYPE=image/jpeg:https://www.worldglaucomaweek.org/wp-content/upl
 oads/2019/02/concerto-1.png
CATEGORIES:Public educational
LOCATION:Ospedale di Gorizia\, Via Fatebenefratelli\, 34\, Gorizia\, Italy\
 , 34074\, Italy
GEO:45.9351303;13.606701499999986
X-APPLE-STRUCTURED-LOCATION;VALUE=URI;X-ADDRESS=Via Fatebenefratelli\, 34\,
  Gorizia\, Italy\, 34074\, Italy;X-APPLE-RADIUS=100;X-TITLE=Ospedale di Go
 rizia:geo:45.9351303,13.606701499999986
END:VEVENT
BEGIN:VTIMEZONE
TZID:Europe/Amsterdam
X-LIC-LOCATION:Europe/Amsterdam
BEGIN:STANDARD
DTSTART:20181028T020000
TZOFFSETFROM:+0200
TZOFFSETTO:+0100
TZNAME:CET
END:STANDARD
END:VTIMEZONE
END:VCALENDAR