BEGIN:VCALENDAR
VERSION:2.0
PRODID:-//wp-events-plugin.com//7.2.3.1//EN
TZID:Europe/Amsterdam
X-WR-TIMEZONE:Europe/Amsterdam
BEGIN:VEVENT
UID:2832@worldglaucomaweek.org
DTSTART;TZID=Europe/Amsterdam;VALUE=DATE:20190304
DTEND;TZID=Europe/Amsterdam;VALUE=DATE:20190317
DTSTAMP:20190310T052234Z
URL:https://www.worldglaucomaweek.org/activity/mja-article-glaucoma-in-per
 spective/
SUMMARY:MJA Article - Glaucoma in perspective
DESCRIPTION:\nYu Xiang George Kong\, Annie Gibbins and Anne Brooks\n\n\nMed
  J Aust 2019\; 210 (4): 150-152. || doi: 10.5694/mja2.50011\nPublished o
 nline: 4 March 2019\n
CATEGORIES:Public educational
END:VEVENT
BEGIN:VTIMEZONE
TZID:Europe/Amsterdam
X-LIC-LOCATION:Europe/Amsterdam
BEGIN:STANDARD
DTSTART:20181028T020000
TZOFFSETFROM:+0200
TZOFFSETTO:+0100
TZNAME:CET
END:STANDARD
END:VTIMEZONE
END:VCALENDAR