BEGIN:VCALENDAR
VERSION:2.0
PRODID:-//wp-events-plugin.com//7.2.3.1//EN
TZID:Europe/Amsterdam
X-WR-TIMEZONE:Europe/Amsterdam
BEGIN:VEVENT
UID:2108@worldglaucomaweek.org
DTSTART;TZID=Europe/Amsterdam;VALUE=DATE:20180313
DTEND;TZID=Europe/Amsterdam;VALUE=DATE:20180321
DTSTAMP:20180312T163812Z
URL:https://www.worldglaucomaweek.org/activity/medical-journal-of-australi
 a-insight-article-interview/
SUMMARY:Medical Journal of Australia Insight article / interview
DESCRIPTION:Interviews with subsequent article by Hugo Wicken published in 
 the MJA Insight magazine.
CATEGORIES:Media coverage
END:VEVENT
BEGIN:VTIMEZONE
TZID:Europe/Amsterdam
X-LIC-LOCATION:Europe/Amsterdam
BEGIN:STANDARD
DTSTART:20171029T020000
TZOFFSETFROM:+0200
TZOFFSETTO:+0100
TZNAME:CET
END:STANDARD
END:VTIMEZONE
END:VCALENDAR