BEGIN:VCALENDAR
VERSION:2.0
PRODID:-//wp-events-plugin.com//7.2.3.1//EN
TZID:Europe/Amsterdam
X-WR-TIMEZONE:Europe/Amsterdam
BEGIN:VEVENT
UID:2701@worldglaucomaweek.org
DTSTART;TZID=Europe/Amsterdam;VALUE=DATE:20190307
DTEND;TZID=Europe/Amsterdam;VALUE=DATE:20190325
DTSTAMP:20190306T200325Z
URL:https://www.worldglaucomaweek.org/activity/media-pitching-for-glaucoma
 -awareness-week/
SUMMARY:Media Pitching for Glaucoma Awareness Week
DESCRIPTION:We will be actively pitching for World Glaucoma Week (March 10 
 – 16) and we anticipate some media interest. We have had our Agency (The
  Colony Project) reach out to media and pitch on Glaucoma Awareness\, whil
 e COS has actively been reaching out to physicians to confirm their partic
 ipation in any opportunities that may come up with the media. \n\n 
CATEGORIES:Media coverage
END:VEVENT
BEGIN:VTIMEZONE
TZID:Europe/Amsterdam
X-LIC-LOCATION:Europe/Amsterdam
BEGIN:STANDARD
DTSTART:20181028T020000
TZOFFSETFROM:+0200
TZOFFSETTO:+0100
TZNAME:CET
END:STANDARD
END:VTIMEZONE
END:VCALENDAR