BEGIN:VCALENDAR
VERSION:2.0
PRODID:-//wp-events-plugin.com//7.2.3.1//EN
TZID:Europe/Amsterdam
X-WR-TIMEZONE:Europe/Amsterdam
BEGIN:VEVENT
UID:2880@worldglaucomaweek.org
DTSTART;TZID=Europe/Amsterdam:20190313T081500
DTEND;TZID=Europe/Amsterdam:20190313T090000
DTSTAMP:20190312T114655Z
URL:https://www.worldglaucomaweek.org/activity/media-lecture-on-ogtv-abeok
 uta-nigeria/
SUMMARY:MEDIA LECTURE ON OGTV\, ABEOKUTA\, NIGERIA
DESCRIPTION:
CATEGORIES:Media coverage
LOCATION:Abeokuta\, Ogun State\, Sapon to Kuto\, Abeokuta\, Ogun State\, 11
 1011\, South West\, Nigeria
GEO:7.135933499999999;3.351099100000056
X-APPLE-STRUCTURED-LOCATION;VALUE=URI;X-ADDRESS=Sapon to Kuto\, Abeokuta\, 
 Ogun State\, 111011\, South West\, Nigeria;X-APPLE-RADIUS=100;X-TITLE=Abeo
 kuta\, Ogun State:geo:7.135933499999999,3.351099100000056
END:VEVENT
BEGIN:VTIMEZONE
TZID:Europe/Amsterdam
X-LIC-LOCATION:Europe/Amsterdam
BEGIN:STANDARD
DTSTART:20181028T020000
TZOFFSETFROM:+0200
TZOFFSETTO:+0100
TZNAME:CET
END:STANDARD
END:VTIMEZONE
END:VCALENDAR