BEGIN:VCALENDAR
VERSION:2.0
PRODID:-//wp-events-plugin.com//7.2.3.1//EN
TZID:Europe/Amsterdam
X-WR-TIMEZONE:Europe/Amsterdam
BEGIN:VEVENT
UID:2803@worldglaucomaweek.org
DTSTART;TZID=Europe/Amsterdam:20190308T200000
DTEND;TZID=Europe/Amsterdam:20190308T210000
DTSTAMP:20190309T174057Z
URL:https://www.worldglaucomaweek.org/activity/media-event-2/
SUMMARY:Media Event
DESCRIPTION:A major talk show personality and former head of  Topkapi Pala
 ce Museum talked about glaucoma for 15 minutes on CNN Turk  which is a na
 tional TV channel
CATEGORIES:Media coverage
END:VEVENT
BEGIN:VTIMEZONE
TZID:Europe/Amsterdam
X-LIC-LOCATION:Europe/Amsterdam
BEGIN:STANDARD
DTSTART:20181028T020000
TZOFFSETFROM:+0200
TZOFFSETTO:+0100
TZNAME:CET
END:STANDARD
END:VTIMEZONE
END:VCALENDAR