BEGIN:VCALENDAR
VERSION:2.0
PRODID:-//wp-events-plugin.com//7.2.3.1//EN
TZID:Europe/Amsterdam
X-WR-TIMEZONE:Europe/Amsterdam
BEGIN:VEVENT
UID:2311@worldglaucomaweek.org
DTSTART;TZID=Europe/Amsterdam:20180310T120000
DTEND;TZID=Europe/Amsterdam:20180316T133000
DTSTAMP:20180327T173820Z
URL:https://www.worldglaucomaweek.org/activity/media-enlightenment-program
 s/
SUMMARY:Media ENLIGHTENMENT Programs
DESCRIPTION:
ATTACH;FMTTYPE=image/jpeg:https://www.worldglaucomaweek.org/wp-content/upl
 oads/2018/03/301005F3-CCB3-4C1E-8185-FD7F52D3C690.jpeg
CATEGORIES:Media coverage
LOCATION:Radio NIGERIA\,Coal City FM - E\, Kingsway Road\, Enugu\, Enugu\, 
 South- East\, Nigeria
GEO:6.443029999999999;7.481443200000058
X-APPLE-STRUCTURED-LOCATION;VALUE=URI;X-ADDRESS=Kingsway Road\, Enugu\, Enu
 gu\, South- East\, Nigeria;X-APPLE-RADIUS=100;X-TITLE=Radio NIGERIA\,Coal 
 City FM - E:geo:6.443029999999999,7.481443200000058
END:VEVENT
BEGIN:VTIMEZONE
TZID:Europe/Amsterdam
X-LIC-LOCATION:Europe/Amsterdam
BEGIN:STANDARD
DTSTART:20171029T020000
TZOFFSETFROM:+0200
TZOFFSETTO:+0100
TZNAME:CET
END:STANDARD
END:VTIMEZONE
END:VCALENDAR