BEGIN:VCALENDAR
VERSION:2.0
PRODID:-//wp-events-plugin.com//7.2.3.1//EN
TZID:Europe/Amsterdam
X-WR-TIMEZONE:Europe/Amsterdam
BEGIN:VEVENT
UID:8043@worldglaucomaweek.org
DTSTART;TZID=Africa/Abidjan:20240310T123000
DTEND;TZID=Africa/Abidjan:20240310T140000
DTSTAMP:20240313T153447Z
URL:https://www.worldglaucomaweek.org/activity/media-coverage-27/
SUMMARY:Media coverage
DESCRIPTION:More than 200  doctors\, patients\, journalists and hospital st
 aff  made a colorful rally in the street  with the slogan Uniting for a Gl
 aucoma free world . \n\nThe rally ended with a discussion meeting at the a
 uditorium of Bangladesh Eye Hospital &amp\; Institute. 
CATEGORIES:Awareness
LOCATION:Bangladesh Eye Hospital &amp\; Institute\, Dhanmondi\, Dhaka\, DHA
 KA\, 1209\, Asia\, Bangladesh
GEO:23.752586;90.37298
X-APPLE-STRUCTURED-LOCATION;VALUE=URI;X-ADDRESS=Dhanmondi\, Dhaka\, DHAKA\,
  1209\, Asia\, Bangladesh;X-APPLE-RADIUS=100;X-TITLE=Bangladesh Eye Hospit
 al & Institute:geo:23.752586,90.37298
END:VEVENT
BEGIN:VTIMEZONE
TZID:Africa/Abidjan
X-LIC-LOCATION:Africa/Abidjan
BEGIN:STANDARD
DTSTART:20230311T123000
TZOFFSETFROM:+0000
TZOFFSETTO:+0000
TZNAME:GMT
END:STANDARD
END:VTIMEZONE
END:VCALENDAR