BEGIN:VCALENDAR
VERSION:2.0
PRODID:-//wp-events-plugin.com//7.2.3.1//EN
TZID:Europe/Amsterdam
X-WR-TIMEZONE:Europe/Amsterdam
BEGIN:VEVENT
UID:2777@worldglaucomaweek.org
DTSTART;TZID=Europe/Amsterdam:20190310T090000
DTEND;TZID=Europe/Amsterdam:20190316T094500
DTSTAMP:20190309T153112Z
URL:https://www.worldglaucomaweek.org/activity/media-activity/
SUMMARY:Media activity
DESCRIPTION:Media activities in several radio stations
CATEGORIES:Media coverage
LOCATION:Port Harcourt \, Nigeria\, Rivers state secretariat \, Port Harcou
 rt \, Nigeria
GEO:4.7734941;7.0148510000000215
X-APPLE-STRUCTURED-LOCATION;VALUE=URI;X-ADDRESS=Rivers state secretariat \,
  Port Harcourt \, Nigeria;X-APPLE-RADIUS=100;X-TITLE=Port Harcourt \, Nige
 ria:geo:4.7734941,7.0148510000000215
END:VEVENT
BEGIN:VTIMEZONE
TZID:Europe/Amsterdam
X-LIC-LOCATION:Europe/Amsterdam
BEGIN:STANDARD
DTSTART:20181028T020000
TZOFFSETFROM:+0200
TZOFFSETTO:+0100
TZNAME:CET
END:STANDARD
END:VTIMEZONE
END:VCALENDAR