BEGIN:VCALENDAR
VERSION:2.0
PRODID:-//wp-events-plugin.com//7.2.3.1//EN
TZID:Europe/Amsterdam
X-WR-TIMEZONE:Europe/Amsterdam
BEGIN:VEVENT
UID:2099@worldglaucomaweek.org
DTSTART;TZID=Europe/Amsterdam;VALUE=DATE:20180312
DTEND;TZID=Europe/Amsterdam;VALUE=DATE:20180317
DTSTAMP:20180312T115006Z
URL:https://www.worldglaucomaweek.org/activity/material-informativo-en-pap
 el/
SUMMARY:Material Informativo en papel
DESCRIPTION:Entrega de folletos informativos sobre glaucoma\, estudios comp
 lementarios\, tratamientos\, a todos los pacientes y acompañantes que asi
 stan a la clínica durante la Semana Mundial del Glaucoma.
CATEGORIES:Public educational
LOCATION:Clinica Gomez Romeo\, Tucuman 334\, Godoy Cruz\, Argentina\, 5501\
 , Mendoza\, Argentina
GEO:-32.9077628;-68.84839640000001
X-APPLE-STRUCTURED-LOCATION;VALUE=URI;X-ADDRESS=Tucuman 334\, Godoy Cruz\, 
 Argentina\, 5501\, Mendoza\, Argentina;X-APPLE-RADIUS=100;X-TITLE=Clinica 
 Gomez Romeo:geo:-32.9077628,-68.84839640000001
END:VEVENT
BEGIN:VTIMEZONE
TZID:Europe/Amsterdam
X-LIC-LOCATION:Europe/Amsterdam
BEGIN:STANDARD
DTSTART:20171029T020000
TZOFFSETFROM:+0200
TZOFFSETTO:+0100
TZNAME:CET
END:STANDARD
END:VTIMEZONE
END:VCALENDAR