BEGIN:VCALENDAR
VERSION:2.0
PRODID:-//wp-events-plugin.com//7.2.3.1//EN
TZID:Europe/Amsterdam
X-WR-TIMEZONE:Europe/Amsterdam
BEGIN:VEVENT
UID:2179@worldglaucomaweek.org
DTSTART;TZID=Europe/Amsterdam;VALUE=DATE:20180311
DTEND;TZID=Europe/Amsterdam;VALUE=DATE:20180318
DTSTAMP:20180314T040643Z
URL:https://www.worldglaucomaweek.org/activity/lucena-doctors-hospital-pos
 ter-display/
SUMMARY:Lucena Doctors Hospital Poster Display
DESCRIPTION:
CATEGORIES:Public educational
LOCATION:Lucena United Doctors Hospital\, Maharlika Highway\, Isabang\, Luc
 ena\, Philippines
GEO:13.9602668;121.62407050000002
X-APPLE-STRUCTURED-LOCATION;VALUE=URI;X-ADDRESS=Maharlika Highway\, Isabang
 \, Lucena\, Philippines;X-APPLE-RADIUS=100;X-TITLE=Lucena United Doctors H
 ospital:geo:13.9602668,121.62407050000002
END:VEVENT
BEGIN:VTIMEZONE
TZID:Europe/Amsterdam
X-LIC-LOCATION:Europe/Amsterdam
BEGIN:STANDARD
DTSTART:20171029T020000
TZOFFSETFROM:+0200
TZOFFSETTO:+0100
TZNAME:CET
END:STANDARD
END:VTIMEZONE
END:VCALENDAR