BEGIN:VCALENDAR
VERSION:2.0
PRODID:-//wp-events-plugin.com//7.2.3.1//EN
TZID:Europe/Amsterdam
X-WR-TIMEZONE:Europe/Amsterdam
BEGIN:VEVENT
UID:1969@worldglaucomaweek.org
DTSTART;TZID=Europe/Amsterdam;VALUE=DATE:20180314
DTEND;TZID=Europe/Amsterdam;VALUE=DATE:20180318
DTSTAMP:20180309T014653Z
URL:https://www.worldglaucomaweek.org/activity/living-with-glaucoma/
SUMMARY:Living with Glaucoma
DESCRIPTION:I will be hosting a talk show about glaucoma\, my struggles and
  how can face our fears. I wrote a book that helps glaucoma patients with 
 foods\, herbs and emotional oils for glaucoma patients.\n\nSpreading Glau
 coma Awareness from Jamaica.\n
CATEGORIES:Public educational
LOCATION:Jamaica\, Sandy Bay\, Hanover\, Jamaica \, 00000\, West Indies \, 
 Jamaica
GEO:18.451767;-78.05674599999998
X-APPLE-STRUCTURED-LOCATION;VALUE=URI;X-ADDRESS=Sandy Bay\, Hanover\, Jamai
 ca \, 00000\, West Indies \, Jamaica;X-APPLE-RADIUS=100;X-TITLE=Jamaica:ge
 o:18.451767,-78.05674599999998
END:VEVENT
BEGIN:VTIMEZONE
TZID:Europe/Amsterdam
X-LIC-LOCATION:Europe/Amsterdam
BEGIN:STANDARD
DTSTART:20171029T020000
TZOFFSETFROM:+0200
TZOFFSETTO:+0100
TZNAME:CET
END:STANDARD
END:VTIMEZONE
END:VCALENDAR