BEGIN:VCALENDAR
VERSION:2.0
PRODID:-//wp-events-plugin.com//7.2.3.1//EN
TZID:Europe/Amsterdam
X-WR-TIMEZONE:Europe/Amsterdam
BEGIN:VEVENT
UID:3459@worldglaucomaweek.org
DTSTART;TZID=Asia/Seoul:20210309T190000
DTEND;TZID=Asia/Seoul:20210309T200000
DTSTAMP:20210305T155749Z
URL:https://www.worldglaucomaweek.org/activity/live-streaming-show-on-medi
 cal-internet-tv-%eb%b9%84%ec%98%a8%eb%92%a4-www-aftertherain-kr/
SUMMARY:Dr. Jaewan Choi's Lecture on Glaucoma Surgery (녹내장 수술\, 
 그것이 알고 싶다 Part I 녹내장 스텐트 수술 편) at Live Sho
 w on Medical Internet TV (의학채널 비온뒤 라이브 www.aftertherai
 n.kr)
DESCRIPTION:Dr. Jaewan Choi\, Chief Glaucoma Specialist at the Central Seou
 l Eye Center\, will talk on the basic knowledge and recent advances of gla
 ucoma surgery in this live streaming show on medical internet TV 비온뒤
  (www.aftertherain.kr). The lecture will cover the various types of glauco
 ma surgeries available in South Korea\, especially focusing on the minimal
 ly invasive glaucoma surgeries such as XEN and iStent. It will also analyz
 e what factors dedicate to successful surgical result\, and let the patien
 ts know some useful tips to enhance the outcome.  
ATTACH;FMTTYPE=image/jpeg:https://www.worldglaucomaweek.org/wp-content/upl
 oads/2021/02/Screen-Shot-2021-03-06-at-12.57.08-AM.png
CATEGORIES:Media coverage
LOCATION:의학채널 비온뒤 (www.aftertherain.kr)\, 13\, Eonju-ro 30-gi
 l\, Gangnam-gu\, Seoul\, 06292\, South Korea
GEO:37.488139;127.051167
X-APPLE-STRUCTURED-LOCATION;VALUE=URI;X-ADDRESS=13\, Eonju-ro 30-gil\, Gang
 nam-gu\, Seoul\, 06292\, South Korea;X-APPLE-RADIUS=100;X-TITLE=의학채
 널 비온뒤 (www.aftertherain.kr):geo:37.488139,127.051167
END:VEVENT
BEGIN:VTIMEZONE
TZID:Asia/Seoul
X-LIC-LOCATION:Asia/Seoul
BEGIN:STANDARD
DTSTART:20200309T190000
TZOFFSETFROM:+0900
TZOFFSETTO:+0900
TZNAME:KST
END:STANDARD
END:VTIMEZONE
END:VCALENDAR