BEGIN:VCALENDAR
VERSION:2.0
PRODID:-//wp-events-plugin.com//7.2.3.1//EN
TZID:Europe/Amsterdam
X-WR-TIMEZONE:Europe/Amsterdam
BEGIN:VEVENT
UID:1819@worldglaucomaweek.org
DTSTART;TZID=Europe/Amsterdam:20180313T080000
DTEND;TZID=Europe/Amsterdam:20180313T090000
DTSTAMP:20180306T035034Z
URL:https://www.worldglaucomaweek.org/activity/live-radio-talkshow-about-g
 laucoma-with-andika-prahasta-md-ophth-phd/
SUMMARY:Live Radio Talkshow about Glaucoma with Andika Prahasta\, MD\, Opht
 h\, PhD
DESCRIPTION:Andika Prahasta\, MD\, Ophth\, PhD will share and discuss about
  glaucoma with media partner K Lite 107.1 FM radio
ATTACH;FMTTYPE=image/jpeg:https://www.worldglaucomaweek.org/wp-content/upl
 oads/2018/03/small-WGW-agenda-2.jpg
CATEGORIES:Media coverage
LOCATION:K Lite Radio 107.1 FM\,  Sumur Bandung No. 12\, bandung\, west jav
 a\, west java\, Indonesia
GEO:-6.886104800000001;107.61275479999995
X-APPLE-STRUCTURED-LOCATION;VALUE=URI;X-ADDRESS= Sumur Bandung No. 12\, ban
 dung\, west java\, west java\, Indonesia;X-APPLE-RADIUS=100;X-TITLE=K Lite
  Radio 107.1 FM:geo:-6.886104800000001,107.61275479999995
END:VEVENT
BEGIN:VTIMEZONE
TZID:Europe/Amsterdam
X-LIC-LOCATION:Europe/Amsterdam
BEGIN:STANDARD
DTSTART:20171029T020000
TZOFFSETFROM:+0200
TZOFFSETTO:+0100
TZNAME:CET
END:STANDARD
END:VTIMEZONE
END:VCALENDAR