BEGIN:VCALENDAR
VERSION:2.0
PRODID:-//wp-events-plugin.com//7.2.3.1//EN
TZID:Europe/Amsterdam
X-WR-TIMEZONE:Europe/Amsterdam
BEGIN:VEVENT
UID:2959@worldglaucomaweek.org
DTSTART;TZID=Europe/Amsterdam:20190311T101500
DTEND;TZID=Europe/Amsterdam:20190311T110000
DTSTAMP:20190316T133532Z
URL:https://www.worldglaucomaweek.org/activity/live-radio-interview/
SUMMARY:Live radio interview
DESCRIPTION:Had a live call in radio interview (meet your doctor) at the Sp
 lash FM Ibadan.\n\nWe used the opportunity to inform listening about glauc
 oma. Dr Sarimiye (consultant ophthalmologist and a glaucoma specialist) wa
 s on hand to answer questions and give listening about the facts of glauco
 ma
CATEGORIES:Awareness
LOCATION:Splash FM Ibadan\, Splash FM\, Felele\, Ibadan\, Oyo\, 20002\, Nig
 eria
GEO:7.345413499999999;3.884825200000023
X-APPLE-STRUCTURED-LOCATION;VALUE=URI;X-ADDRESS=Splash FM\, Felele\, Ibadan
 \, Oyo\, 20002\, Nigeria;X-APPLE-RADIUS=100;X-TITLE=Splash FM Ibadan:geo:7
 .345413499999999,3.884825200000023
END:VEVENT
BEGIN:VTIMEZONE
TZID:Europe/Amsterdam
X-LIC-LOCATION:Europe/Amsterdam
BEGIN:STANDARD
DTSTART:20181028T020000
TZOFFSETFROM:+0200
TZOFFSETTO:+0100
TZNAME:CET
END:STANDARD
END:VTIMEZONE
END:VCALENDAR