BEGIN:VCALENDAR
VERSION:2.0
PRODID:-//wp-events-plugin.com//7.2.3.1//EN
TZID:Europe/Amsterdam
X-WR-TIMEZONE:Europe/Amsterdam
BEGIN:VEVENT
UID:2282@worldglaucomaweek.org
DTSTART;TZID=Europe/Amsterdam:20180313T220000
DTEND;TZID=Europe/Amsterdam:20180313T223000
DTSTAMP:20180319T150432Z
URL:https://www.worldglaucomaweek.org/activity/live-interview-tv-and-radio
 -with-dr-wilma-lelis-barboza-md-president-brazilian-glaucoma-society-2017-
 2019/
SUMMARY:Live interview (TV and Radio) with Dr. Wilma Lelis Barboza\, MD\, P
 resident\, Brazilian Glaucoma Society (2017-2019)
DESCRIPTION:Spread the Word!\n\nLive TV interview (National broadcast) with
  Dr. Wilma Lelis Barboza\, President of the Brazilian Glaucoma Society\, d
 uring WGW 2018.\n\nAlso\, interviews for radio stations (from Salvador\, F
 ortaleza and Natal)\, were given.\n\n
ATTACH;FMTTYPE=image/jpeg:https://www.worldglaucomaweek.org/wp-content/upl
 oads/2018/03/BandNews_BrazilianGlaucomaSociety-1.jpg
CATEGORIES:Media coverage
END:VEVENT
BEGIN:VTIMEZONE
TZID:Europe/Amsterdam
X-LIC-LOCATION:Europe/Amsterdam
BEGIN:STANDARD
DTSTART:20171029T020000
TZOFFSETFROM:+0200
TZOFFSETTO:+0100
TZNAME:CET
END:STANDARD
END:VTIMEZONE
END:VCALENDAR