BEGIN:VCALENDAR
VERSION:2.0
PRODID:-//wp-events-plugin.com//7.2.3.1//EN
TZID:Europe/Amsterdam
X-WR-TIMEZONE:Europe/Amsterdam
BEGIN:VEVENT
UID:1868@worldglaucomaweek.org
DTSTART;TZID=Europe/Amsterdam:20180308T000000
DTEND;TZID=Europe/Amsterdam:20180308T000000
DTSTAMP:20180306T134236Z
URL:https://www.worldglaucomaweek.org/activity/lipa-medix-medical-center-l
 ay-forum/
SUMMARY:Lipa Medix Medical Center Lay Forum
DESCRIPTION:
CATEGORIES:Public educational
LOCATION:Lipa Medix Medical Center\, Pres JP Laurel Highway\, Lipat City\, 
 Batangas\, Philippines
GEO:13.941674;121.14402540000003
X-APPLE-STRUCTURED-LOCATION;VALUE=URI;X-ADDRESS=Pres JP Laurel Highway\, Li
 pat City\, Batangas\, Philippines;X-APPLE-RADIUS=100;X-TITLE=Lipa Medix Me
 dical Center:geo:13.941674,121.14402540000003
END:VEVENT
BEGIN:VTIMEZONE
TZID:Europe/Amsterdam
X-LIC-LOCATION:Europe/Amsterdam
BEGIN:STANDARD
DTSTART:20171029T020000
TZOFFSETFROM:+0200
TZOFFSETTO:+0100
TZNAME:CET
END:STANDARD
END:VTIMEZONE
END:VCALENDAR