BEGIN:VCALENDAR
VERSION:2.0
PRODID:-//wp-events-plugin.com//7.2.3.1//EN
TZID:Europe/Amsterdam
X-WR-TIMEZONE:Europe/Amsterdam
BEGIN:VEVENT
UID:1609@worldglaucomaweek.org
DTSTART;TZID=Europe/Amsterdam:20180316T170000
DTEND;TZID=Europe/Amsterdam:20180318T220000
DTSTAMP:20180202T152804Z
URL:https://www.worldglaucomaweek.org/activity/lightup-in-green-for-glauco
 ma-imabari/
SUMMARY:Light=Up in Green for Glaucoma @ Imabari
DESCRIPTION:
CATEGORIES:Awareness
LOCATION:Imabari Public Hall\, Betsumiya-cho 1-4-1\, Imabari\, Ehime\, 794-
 0026\, Japan
GEO:34.0660979;132.99786560000007
X-APPLE-STRUCTURED-LOCATION;VALUE=URI;X-ADDRESS=Betsumiya-cho 1-4-1\, Imaba
 ri\, Ehime\, 794-0026\, Japan;X-APPLE-RADIUS=100;X-TITLE=Imabari Public Ha
 ll:geo:34.0660979,132.99786560000007
END:VEVENT
BEGIN:VTIMEZONE
TZID:Europe/Amsterdam
X-LIC-LOCATION:Europe/Amsterdam
BEGIN:STANDARD
DTSTART:20171029T020000
TZOFFSETFROM:+0200
TZOFFSETTO:+0100
TZNAME:CET
END:STANDARD
END:VTIMEZONE
END:VCALENDAR