BEGIN:VCALENDAR
VERSION:2.0
PRODID:-//wp-events-plugin.com//7.2.3.1//EN
TZID:Europe/Amsterdam
X-WR-TIMEZONE:Europe/Amsterdam
BEGIN:VEVENT
UID:2130@worldglaucomaweek.org
DTSTART;TZID=Europe/Amsterdam:20180316T090000
DTEND;TZID=Europe/Amsterdam:20180316T130000
DTSTAMP:20180313T034745Z
URL:https://www.worldglaucomaweek.org/activity/light-up-in-green-glaucoma-
 mini-symposium-for-the-general-public/
SUMMARY:"Light up in Green" Glaucoma Mini Symposium for the general public
DESCRIPTION:\n 	Presentation by Glaucoma specialist on updates on Glaucoma 
 Care and Glaucoma Management\n 	Presentation by local activist group (Baha
 mas Association for the Blind and Visually Impaired)\n 	Presentation  by 
 Patient on living with Glaucoma\n 	Brief talks  by Nurses on drop instill
 ation\, importance of keeping appointments etc.\n 	Brief talk by Coordinat
 or of Public Eye Care Center to advise potential patients how they can be 
 referred to and register to be evaluated at the Eye Clinic\n 	Refreshments
  will be served\n 	Prizes and a raffle available also\n
CATEGORIES:Media coverage
LOCATION:Princess Margaret Hospital Eye Care Center\,\, Soldier Road\, Nass
 au\, New Providence\, Bahamas
X-APPLE-STRUCTURED-LOCATION;VALUE=URI;X-ADDRESS=Soldier Road\, Nassau\, New
  Providence\, Bahamas;X-APPLE-RADIUS=100;X-TITLE=Princess Margaret Hospita
 l Eye Care Center\,:geo:0,0
END:VEVENT
BEGIN:VTIMEZONE
TZID:Europe/Amsterdam
X-LIC-LOCATION:Europe/Amsterdam
BEGIN:STANDARD
DTSTART:20171029T020000
TZOFFSETFROM:+0200
TZOFFSETTO:+0100
TZNAME:CET
END:STANDARD
END:VTIMEZONE
END:VCALENDAR