BEGIN:VCALENDAR
VERSION:2.0
PRODID:-//wp-events-plugin.com//7.2.3.1//EN
TZID:Europe/Amsterdam
X-WR-TIMEZONE:Europe/Amsterdam
BEGIN:VEVENT
UID:1565@worldglaucomaweek.org
DTSTART;TZID=Europe/Amsterdam:20180312T170000
DTEND;TZID=Europe/Amsterdam:20180317T210000
DTSTAMP:20180201T162948Z
URL:https://www.worldglaucomaweek.org/activity/light-up-in-green-for-glauc
 oma-utsunomiya-tower/
SUMMARY:Light-UP in Green for Glaucoma @Utsunomiya tower
DESCRIPTION:
CATEGORIES:Awareness
LOCATION:Utsunomiya Tower\, 5-1-1 Hanawada \, Utsunomiya\, 320-0027\, Japan
GEO:36.5704245;139.8859648
X-APPLE-STRUCTURED-LOCATION;VALUE=URI;X-ADDRESS=5-1-1 Hanawada \, Utsunomiy
 a\, 320-0027\, Japan;X-APPLE-RADIUS=100;X-TITLE=Utsunomiya Tower:geo:36.57
 04245,139.8859648
END:VEVENT
BEGIN:VTIMEZONE
TZID:Europe/Amsterdam
X-LIC-LOCATION:Europe/Amsterdam
BEGIN:STANDARD
DTSTART:20171029T020000
TZOFFSETFROM:+0200
TZOFFSETTO:+0100
TZNAME:CET
END:STANDARD
END:VTIMEZONE
END:VCALENDAR