BEGIN:VCALENDAR
VERSION:2.0
PRODID:-//wp-events-plugin.com//7.2.3.1//EN
TZID:Europe/Amsterdam
X-WR-TIMEZONE:Europe/Amsterdam
BEGIN:VEVENT
UID:1569@worldglaucomaweek.org
DTSTART;TZID=Europe/Amsterdam:20180312T170000
DTEND;TZID=Europe/Amsterdam:20180317T000000
DTSTAMP:20180201T163832Z
URL:https://www.worldglaucomaweek.org/activity/light-up-in-green-for-glauc
 oma-tokyo-5/
SUMMARY:Light-UP in Green for Glaucoma @ Tokyo
DESCRIPTION:
CATEGORIES:Awareness
LOCATION:Inoue Eye Hospital\, 4-3\, KandaSurugadai\, Tokyo\, 101-0062\, Jap
 an
GEO:35.6987747;139.7650165
X-APPLE-STRUCTURED-LOCATION;VALUE=URI;X-ADDRESS=4-3\, KandaSurugadai\, Toky
 o\, 101-0062\, Japan;X-APPLE-RADIUS=100;X-TITLE=Inoue Eye Hospital:geo:35.
 6987747,139.7650165
END:VEVENT
BEGIN:VTIMEZONE
TZID:Europe/Amsterdam
X-LIC-LOCATION:Europe/Amsterdam
BEGIN:STANDARD
DTSTART:20171029T020000
TZOFFSETFROM:+0200
TZOFFSETTO:+0100
TZNAME:CET
END:STANDARD
END:VTIMEZONE
END:VCALENDAR