BEGIN:VCALENDAR
VERSION:2.0
PRODID:-//wp-events-plugin.com//7.2.3.1//EN
TZID:Europe/Amsterdam
X-WR-TIMEZONE:Europe/Amsterdam
BEGIN:VEVENT
UID:1567@worldglaucomaweek.org
DTSTART;TZID=Europe/Amsterdam:20180312T170000
DTEND;TZID=Europe/Amsterdam:20180317T230000
DTSTAMP:20180201T163453Z
URL:https://www.worldglaucomaweek.org/activity/light-up-in-green-for-glauc
 oma-takasaki/
SUMMARY:Light-UP in Green for Glaucoma @Takasaki
DESCRIPTION:
CATEGORIES:Awareness
LOCATION:TAKASAKI SATO EYE CLINIC\, 1000-1 MinamiOrui\, Takasaki\, Gunma\, 
 370-0036\, Japan
GEO:36.3184396;139.00738509999996
X-APPLE-STRUCTURED-LOCATION;VALUE=URI;X-ADDRESS=1000-1 MinamiOrui\, Takasak
 i\, Gunma\, 370-0036\, Japan;X-APPLE-RADIUS=100;X-TITLE=TAKASAKI SATO EYE 
 CLINIC:geo:36.3184396,139.00738509999996
END:VEVENT
BEGIN:VTIMEZONE
TZID:Europe/Amsterdam
X-LIC-LOCATION:Europe/Amsterdam
BEGIN:STANDARD
DTSTART:20171029T020000
TZOFFSETFROM:+0200
TZOFFSETTO:+0100
TZNAME:CET
END:STANDARD
END:VTIMEZONE
END:VCALENDAR