BEGIN:VCALENDAR
VERSION:2.0
PRODID:-//wp-events-plugin.com//7.2.3.1//EN
TZID:Europe/Amsterdam
X-WR-TIMEZONE:Europe/Amsterdam
BEGIN:VEVENT
UID:1581@worldglaucomaweek.org
DTSTART;TZID=Europe/Amsterdam:20180312T000000
DTEND;TZID=Europe/Amsterdam:20180317T230000
DTSTAMP:20180201T201733Z
URL:https://www.worldglaucomaweek.org/activity/light-up-in-green-for-glauc
 oma-tajimi/
SUMMARY:Light-UP in Green for Glaucoma @Tajimi
DESCRIPTION:
CATEGORIES:Awareness
LOCATION:Tajimi City Hall\, 2-36\, Otowa-cho\, Tajimi\, Gifu\, 5070037\, Ja
 pan
GEO:35.3361103;137.11870550000003
X-APPLE-STRUCTURED-LOCATION;VALUE=URI;X-ADDRESS=2-36\, Otowa-cho\, Tajimi\,
  Gifu\, 5070037\, Japan;X-APPLE-RADIUS=100;X-TITLE=Tajimi City Hall:geo:35
 .3361103,137.11870550000003
END:VEVENT
BEGIN:VTIMEZONE
TZID:Europe/Amsterdam
X-LIC-LOCATION:Europe/Amsterdam
BEGIN:STANDARD
DTSTART:20171029T020000
TZOFFSETFROM:+0200
TZOFFSETTO:+0100
TZNAME:CET
END:STANDARD
END:VTIMEZONE
END:VCALENDAR