BEGIN:VCALENDAR
VERSION:2.0
PRODID:-//wp-events-plugin.com//7.2.3.1//EN
TZID:Europe/Amsterdam
X-WR-TIMEZONE:Europe/Amsterdam
BEGIN:VEVENT
UID:1576@worldglaucomaweek.org
DTSTART;TZID=Europe/Amsterdam:20180315T000000
DTEND;TZID=Europe/Amsterdam:20180317T230000
DTSTAMP:20180201T182950Z
URL:https://www.worldglaucomaweek.org/activity/light-up-in-green-for-glauc
 oma-oasis/
SUMMARY:Light-UP in Green for Glaucoma @  Oasis
DESCRIPTION:
CATEGORIES:Awareness
LOCATION:Oasis 21\, Higashi-Sakura 1-11-1\, Higashi-ku\, Nagoya\, Aichi\, 4
 61-0005\, Japan
GEO:35.1709007;136.90967290000003
X-APPLE-STRUCTURED-LOCATION;VALUE=URI;X-ADDRESS=Higashi-Sakura 1-11-1\, Hig
 ashi-ku\, Nagoya\, Aichi\, 461-0005\, Japan;X-APPLE-RADIUS=100;X-TITLE=Oas
 is 21:geo:35.1709007,136.90967290000003
END:VEVENT
BEGIN:VTIMEZONE
TZID:Europe/Amsterdam
X-LIC-LOCATION:Europe/Amsterdam
BEGIN:STANDARD
DTSTART:20171029T020000
TZOFFSETFROM:+0200
TZOFFSETTO:+0100
TZNAME:CET
END:STANDARD
END:VTIMEZONE
END:VCALENDAR