BEGIN:VCALENDAR
VERSION:2.0
PRODID:-//wp-events-plugin.com//7.2.3.1//EN
TZID:Europe/Amsterdam
X-WR-TIMEZONE:Europe/Amsterdam
BEGIN:VEVENT
UID:1577@worldglaucomaweek.org
DTSTART;TZID=Europe/Amsterdam:20180312T000000
DTEND;TZID=Europe/Amsterdam:20180317T000000
DTSTAMP:20180201T182656Z
URL:https://www.worldglaucomaweek.org/activity/light-up-in-green-for-glauc
 oma-nagoya-3/
SUMMARY:Light-UP in Green for Glaucoma @Nagoya
DESCRIPTION:
CATEGORIES:Awareness
LOCATION:Sugita Eye Hospital\, Sakae 5-1-30\, naka-ku\, Nagoya\, Aicchi\, 4
 60-0008\, Japan
GEO:35.1683493;136.90769160000002
X-APPLE-STRUCTURED-LOCATION;VALUE=URI;X-ADDRESS=Sakae 5-1-30\, naka-ku\, Na
 goya\, Aicchi\, 460-0008\, Japan;X-APPLE-RADIUS=100;X-TITLE=Sugita Eye Hos
 pital:geo:35.1683493,136.90769160000002
END:VEVENT
BEGIN:VTIMEZONE
TZID:Europe/Amsterdam
X-LIC-LOCATION:Europe/Amsterdam
BEGIN:STANDARD
DTSTART:20171029T020000
TZOFFSETFROM:+0200
TZOFFSETTO:+0100
TZNAME:CET
END:STANDARD
END:VTIMEZONE
END:VCALENDAR