BEGIN:VCALENDAR
VERSION:2.0
PRODID:-//wp-events-plugin.com//7.2.3.1//EN
TZID:Europe/Amsterdam
X-WR-TIMEZONE:Europe/Amsterdam
BEGIN:VEVENT
UID:1575@worldglaucomaweek.org
DTSTART;TZID=Europe/Amsterdam:20180311T000000
DTEND;TZID=Europe/Amsterdam:20180317T230000
DTSTAMP:20180317T003935Z
URL:https://www.worldglaucomaweek.org/activity/light-up-in-green-for-glauc
 oma-nagoya-2/
SUMMARY:Light-UP in Green for Glaucoma @  Nagoya
DESCRIPTION:
CATEGORIES:Awareness
LOCATION:Nagoya TV Tower\, Nishiki 3-6-15 saki\, Nakaku\, Nagoya\, Aichi\, 
 460-0003\, Japan
GEO:35.1704809;136.90162480000004
X-APPLE-STRUCTURED-LOCATION;VALUE=URI;X-ADDRESS=Nishiki 3-6-15 saki\, Nakak
 u\, Nagoya\, Aichi\, 460-0003\, Japan;X-APPLE-RADIUS=100;X-TITLE=Nagoya TV
  Tower:geo:35.1704809,136.90162480000004
END:VEVENT
BEGIN:VTIMEZONE
TZID:Europe/Amsterdam
X-LIC-LOCATION:Europe/Amsterdam
BEGIN:STANDARD
DTSTART:20171029T020000
TZOFFSETFROM:+0200
TZOFFSETTO:+0100
TZNAME:CET
END:STANDARD
END:VTIMEZONE
END:VCALENDAR