BEGIN:VCALENDAR
VERSION:2.0
PRODID:-//wp-events-plugin.com//7.2.3.1//EN
TZID:Europe/Amsterdam
X-WR-TIMEZONE:Europe/Amsterdam
BEGIN:VEVENT
UID:1574@worldglaucomaweek.org
DTSTART;TZID=Europe/Amsterdam:20180312T000000
DTEND;TZID=Europe/Amsterdam:20180312T220000
DTSTAMP:20180201T165213Z
URL:https://www.worldglaucomaweek.org/activity/light-up-in-green-for-glauc
 oma-nagano/
SUMMARY:Light-UP in Green for Glaucoma @ Nagano
DESCRIPTION:
CATEGORIES:Awareness
LOCATION:Matsumoto Castle\, National Treasure of Japan\, 4-1 Marunouchi\, M
 atsumoto\, Nagano\, 390-0873\, Japan
GEO:36.2381519;137.96987330000002
X-APPLE-STRUCTURED-LOCATION;VALUE=URI;X-ADDRESS=4-1 Marunouchi\, Matsumoto\
 , Nagano\, 390-0873\, Japan;X-APPLE-RADIUS=100;X-TITLE=Matsumoto Castle\, 
 National Treasure of Japan:geo:36.2381519,137.96987330000002
END:VEVENT
BEGIN:VTIMEZONE
TZID:Europe/Amsterdam
X-LIC-LOCATION:Europe/Amsterdam
BEGIN:STANDARD
DTSTART:20171029T020000
TZOFFSETFROM:+0200
TZOFFSETTO:+0100
TZNAME:CET
END:STANDARD
END:VTIMEZONE
END:VCALENDAR