BEGIN:VCALENDAR
VERSION:2.0
PRODID:-//wp-events-plugin.com//7.2.3.1//EN
TZID:Europe/Amsterdam
X-WR-TIMEZONE:Europe/Amsterdam
BEGIN:VEVENT
UID:1616@worldglaucomaweek.org
DTSTART;TZID=Europe/Amsterdam:20180312T180000
DTEND;TZID=Europe/Amsterdam:20180317T220000
DTSTAMP:20180202T170243Z
URL:https://www.worldglaucomaweek.org/activity/light-up-in-green-for-glauc
 oma-miyazaki/
SUMMARY:Light-Up in Green for Glaucoma @ Miyazaki
DESCRIPTION:
CATEGORIES:Awareness
LOCATION:Miyata Eye Hospital\, Kurahara cho 6-3\, Miyakonojyou\, Miyazaki\,
  885-0051\, Japan
GEO:31.7227595;131.06555159999993
X-APPLE-STRUCTURED-LOCATION;VALUE=URI;X-ADDRESS=Kurahara cho 6-3\, Miyakono
 jyou\, Miyazaki\, 885-0051\, Japan;X-APPLE-RADIUS=100;X-TITLE=Miyata Eye H
 ospital:geo:31.7227595,131.06555159999993
END:VEVENT
BEGIN:VTIMEZONE
TZID:Europe/Amsterdam
X-LIC-LOCATION:Europe/Amsterdam
BEGIN:STANDARD
DTSTART:20171029T020000
TZOFFSETFROM:+0200
TZOFFSETTO:+0100
TZNAME:CET
END:STANDARD
END:VTIMEZONE
END:VCALENDAR