BEGIN:VCALENDAR
VERSION:2.0
PRODID:-//wp-events-plugin.com//7.2.3.1//EN
TZID:Europe/Amsterdam
X-WR-TIMEZONE:Europe/Amsterdam
BEGIN:VEVENT
UID:1608@worldglaucomaweek.org
DTSTART;TZID=Europe/Amsterdam;VALUE=DATE:20180312
DTEND;TZID=Europe/Amsterdam;VALUE=DATE:20180313
DTSTAMP:20180202T152434Z
URL:https://www.worldglaucomaweek.org/activity/light-up-in-green-for-glauc
 oma-matsuyama-2/
SUMMARY:Light- Up in Green for Glaucoma @ Matsuyama
DESCRIPTION:
CATEGORIES:Awareness
LOCATION:Ferris Wheel "KURURIN"\, 5-1-1 Minatomachi \, Matsuyama\, Ehine\, 
 790-8587\, Japan
GEO:33.8356661;132.76317270000004
X-APPLE-STRUCTURED-LOCATION;VALUE=URI;X-ADDRESS=5-1-1 Minatomachi \, Matsuy
 ama\, Ehine\, 790-8587\, Japan;X-APPLE-RADIUS=100;X-TITLE=Ferris Wheel \"K
 URURIN\":geo:33.8356661,132.76317270000004
END:VEVENT
BEGIN:VTIMEZONE
TZID:Europe/Amsterdam
X-LIC-LOCATION:Europe/Amsterdam
BEGIN:STANDARD
DTSTART:20171029T020000
TZOFFSETFROM:+0200
TZOFFSETTO:+0100
TZNAME:CET
END:STANDARD
END:VTIMEZONE
END:VCALENDAR