BEGIN:VCALENDAR
VERSION:2.0
PRODID:-//wp-events-plugin.com//7.2.3.1//EN
TZID:Europe/Amsterdam
X-WR-TIMEZONE:Europe/Amsterdam
BEGIN:VEVENT
UID:1605@worldglaucomaweek.org
DTSTART;TZID=Europe/Amsterdam;VALUE=DATE:20180311
DTEND;TZID=Europe/Amsterdam;VALUE=DATE:20180313
DTSTAMP:20180202T150904Z
URL:https://www.worldglaucomaweek.org/activity/light-up-in-green-for-glauc
 oma-matsue/
SUMMARY:Light-Up in Green for Glaucoma @ Matsue
DESCRIPTION:
CATEGORIES:Awareness
LOCATION:Matsue Castle\, Tono-machi 1-5\, Matsue\, Shimane\, 690-0887\, Jap
 an
GEO:35.4743366;133.05029690000003
X-APPLE-STRUCTURED-LOCATION;VALUE=URI;X-ADDRESS=Tono-machi 1-5\, Matsue\, S
 himane\, 690-0887\, Japan;X-APPLE-RADIUS=100;X-TITLE=Matsue Castle:geo:35.
 4743366,133.05029690000003
END:VEVENT
BEGIN:VTIMEZONE
TZID:Europe/Amsterdam
X-LIC-LOCATION:Europe/Amsterdam
BEGIN:STANDARD
DTSTART:20171029T020000
TZOFFSETFROM:+0200
TZOFFSETTO:+0100
TZNAME:CET
END:STANDARD
END:VTIMEZONE
END:VCALENDAR