BEGIN:VCALENDAR
VERSION:2.0
PRODID:-//wp-events-plugin.com//7.2.3.1//EN
TZID:Europe/Amsterdam
X-WR-TIMEZONE:Europe/Amsterdam
BEGIN:VEVENT
UID:1583@worldglaucomaweek.org
DTSTART;TZID=Europe/Amsterdam:20180312T000000
DTEND;TZID=Europe/Amsterdam:20180317T220000
DTSTAMP:20180201T202806Z
URL:https://www.worldglaucomaweek.org/activity/light-up-in-green-for-glauc
 oma-kanazawa-2/
SUMMARY:Light-UP in Green for Glaucoma @ Kanazawa
DESCRIPTION:
CATEGORIES:Awareness
LOCATION:Ishikawa-mon gate at Kanazawa Castle\, 1-1 Marunouchi\, Kanazawa\,
  920-0937\, Japan
GEO:36.565398657221024;136.66134497409666
X-APPLE-STRUCTURED-LOCATION;VALUE=URI;X-ADDRESS=1-1 Marunouchi\, Kanazawa\,
  920-0937\, Japan;X-APPLE-RADIUS=100;X-TITLE=Ishikawa-mon gate at Kanazawa
  Castle:geo:36.565398657221024,136.66134497409666
END:VEVENT
BEGIN:VTIMEZONE
TZID:Europe/Amsterdam
X-LIC-LOCATION:Europe/Amsterdam
BEGIN:STANDARD
DTSTART:20171029T020000
TZOFFSETFROM:+0200
TZOFFSETTO:+0100
TZNAME:CET
END:STANDARD
END:VTIMEZONE
END:VCALENDAR